BEGIN:VCALENDAR
VERSION:2.0
PRODID:-//Made In Egypt Gate - ECPv6.9.0//NONSGML v1.0//EN
CALSCALE:GREGORIAN
METHOD:PUBLISH
X-WR-CALNAME:Made In Egypt Gate
X-ORIGINAL-URL:https://madeinegyptgate.com/ar
X-WR-CALDESC:Events for Made In Egypt Gate
REFRESH-INTERVAL;VALUE=DURATION:PT1H
X-Robots-Tag:noindex
X-PUBLISHED-TTL:PT1H
BEGIN:VTIMEZONE
TZID:UTC
BEGIN:STANDARD
TZOFFSETFROM:+0000
TZOFFSETTO:+0000
TZNAME:UTC
DTSTART:20240101T000000
END:STANDARD
END:VTIMEZONE
BEGIN:VEVENT
DTSTART;TZID=UTC:20240422T080000
DTEND;TZID=UTC:20240424T170000
DTSTAMP:20260425T155825
CREATED:20240118T120456Z
LAST-MODIFIED:20240118T120456Z
UID:738-1713772800-1713978000@madeinegyptgate.com
SUMMARY:Oman Petroleum & Energy Show (OPES)
DESCRIPTION:Apr\, 22 – Apr\, 24 \nMuscat – Oman\n\n\n\nINTRODUCTION\n\n\n\n\n\n\n\n\n\nThe Oman Petroleum & Energy Show (OPES) is the only event in Oman that serves the entire oil\, gas\, and energy industry. Under the patronage of the Ministry of Energy and Minerals (MoEM)\, OPES provides an effective business and networking platform\, serving as a key meeting point for energy professionals\, oil and gas companies\, policy and decision makers\, and stakeholders. \nThe Conference organised by the Society of Petroleum Engineers (SPE) features a well-selected speaking faculty of highly acclaimed experts who convene to exchange ideas\, share insights through informative discussions and technical presentations on key topics shaping the current and future of the industry. \n\n\n\n\n\n\n\n\nDetails\n\nStart:\nApr\, 22\nEnd:\nApr\, 24\nWebsite:\nhttp://omanpetroleumandenergyshow.com\n\n\n\nOrganizer\n\nOman Expo
URL:https://madeinegyptgate.com/ar/event/oman-petroleum-energy-show-opes/
CATEGORIES:oil and gas
ATTACH;FMTTYPE=image/jpeg:https://madeinegyptgate.com/wp-content/uploads/2024/01/download-8.jpg
END:VEVENT
BEGIN:VEVENT
DTSTART;TZID=UTC:20240509T080000
DTEND;TZID=UTC:20240512T170000
DTSTAMP:20260425T155825
CREATED:20240513T111143Z
LAST-MODIFIED:20240513T111143Z
UID:5391-1715241600-1715533200@madeinegyptgate.com
SUMMARY:Furniture & Decoration Fair 2024
DESCRIPTION:urniture & Decoration Fair will be held in Cairo\, Egypt which will include a selection of Egyptian factories and companies specialized in the manufacture of home furnishings\, furnishings and decoration\, with the aim of revitalizing Markets and provide an opportunity for those interested in the furniture industry and those who are about to get married to get acquainted with all that is new and the latest models in the furniture\, furnishings and decoration industry. \n\nHighlights\n\nPopular among visitors for\n\nTop 100 in Home & Office in Egypt\n\n\n\nRecommended for\n\nArchitects & Interior Designers\n\n\n\n\n\n\nCairo International Convention Centre\, Cairo\, Egypt
URL:https://madeinegyptgate.com/ar/event/furniture-decoration-fair-2024/
ATTACH;FMTTYPE=image/png:https://madeinegyptgate.com/wp-content/uploads/2024/05/download.png
END:VEVENT
BEGIN:VEVENT
DTSTART;TZID=UTC:20240511T090000
DTEND;TZID=UTC:20240513T180000
DTSTAMP:20260425T155825
CREATED:20240513T111145Z
LAST-MODIFIED:20240513T111145Z
UID:5392-1715418000-1715623200@madeinegyptgate.com
SUMMARY:The International Trade Fair For Chemicals\, Detergent & Raw Materials Industries 2024
DESCRIPTION:he International Trade Fair for Chemicals\, Detergent & Raw Materials Industries is a networking event for businesses in the industry. Over 200 companies from various countries showcase their products to trade visitors\, providing an opportunity to expand into new markets and stay informed about competitors. Attendees include manufacturers of cleaning chemicals\, detergents\, disinfectants\, fragrances\, as well as traders\, importers\, exporters\, distributors\, and businesses from industries like hospitality\, healthcare\, and facilities management. \nHighlights\n\nPopular among visitors for\n\nTop 100 in Industrial Engineering in Egypt\n\n\n\nEgypt International Exhibition Center\, Cairo\, Egypt
URL:https://madeinegyptgate.com/ar/event/the-international-trade-fair-for-chemicals-detergent-raw-materials-industries-2024/
ATTACH;FMTTYPE=image/png:https://madeinegyptgate.com/wp-content/uploads/2024/05/download-1.png
END:VEVENT
BEGIN:VEVENT
DTSTART;TZID=UTC:20240511T110000
DTEND;TZID=UTC:20240513T200000
DTSTAMP:20260425T155825
CREATED:20240513T111145Z
LAST-MODIFIED:20240513T111145Z
UID:5390-1715425200-1715630400@madeinegyptgate.com
SUMMARY:EgyBeautyExpo 2024
DESCRIPTION:EgyBeautyExpo is the international beauty trade show that is not just a major showcase of beauty & Salon Products\, and fragrances in Egypt and Africa Market but also a showcase of beauty and wellness trends\, beauty services\, packaging\, and labeling solutions. This event in Egypt Bering together all types of cosmetics Products\, all the products\, Aerosols/ Dispensers\, Wigs & Hair Pieces\, Comb & Brushes\, Detox & Slimming\, Services for Hair\, Skin\, Body\, and Eye Care\, Soaps and Detergents in all Forms\, All Essential Oils\, Perfumes\, Incense Sticks\, Flavors and Fragrances\, Wellness Centers\, Pools\, Spas\, Potpourri Sachet of Perfumed Flowers. Perfumed candles and other related products Anti-Ageing Products\, Whitening Products\, Beauty products for men & women\, Medical Beauty Treatment\, Slimming products\, Health-related services\, Wedding accessories\, packaging & wrapping material\, Ribbons\, etc. \n\n  \n\n  \n  \nEgypt International Exhibition Center\, Cairo\, Egypt
URL:https://madeinegyptgate.com/ar/event/egybeautyexpo-2024/
ATTACH;FMTTYPE=image/jpeg:https://madeinegyptgate.com/wp-content/uploads/2024/05/download-1.jpeg
END:VEVENT
BEGIN:VEVENT
DTSTART;TZID=UTC:20240513T080000
DTEND;TZID=UTC:20240513T170000
DTSTAMP:20260425T155825
CREATED:20240513T111148Z
LAST-MODIFIED:20240513T111148Z
UID:5393-1715587200-1715619600@madeinegyptgate.com
SUMMARY:International Conference on Pharma and Food 2024
DESCRIPTION:Academicsera – 1604th International Conference On Pharma and Food(ICPAF) will be held on 12th – 13th May\, 2024 at Cairo\, Egypt . ICPAF is to bring together innovative academics and industrial experts in the field of Pharma and Food to a common forum. \n\nHighlights\n\nPopular among visitors for\n\nTop 100 in Food & Beverages in Egypt\n\n\n\n\n\nRamses Hilton\, Cairo\, Egypt
URL:https://madeinegyptgate.com/ar/event/international-conference-on-pharma-and-food-2024/
ATTACH;FMTTYPE=image/jpeg:https://madeinegyptgate.com/wp-content/uploads/2024/05/download.jpeg
END:VEVENT
END:VCALENDAR