BEGIN:VCALENDAR
VERSION:2.0
PRODID:-//Made In Egypt Gate - ECPv6.9.0//NONSGML v1.0//EN
CALSCALE:GREGORIAN
METHOD:PUBLISH
X-ORIGINAL-URL:https://madeinegyptgate.com/ar
X-WR-CALDESC:Events for Made In Egypt Gate
REFRESH-INTERVAL;VALUE=DURATION:PT1H
X-Robots-Tag:noindex
X-PUBLISHED-TTL:PT1H
BEGIN:VTIMEZONE
TZID:UTC
BEGIN:STANDARD
TZOFFSETFROM:+0000
TZOFFSETTO:+0000
TZNAME:UTC
DTSTART:20240101T000000
END:STANDARD
END:VTIMEZONE
BEGIN:VEVENT
DTSTART;TZID=UTC:20240509T080000
DTEND;TZID=UTC:20240512T170000
DTSTAMP:20260424T154504
CREATED:20240513T111143Z
LAST-MODIFIED:20240513T111143Z
UID:5391-1715241600-1715533200@madeinegyptgate.com
SUMMARY:Furniture & Decoration Fair 2024
DESCRIPTION:urniture & Decoration Fair will be held in Cairo\, Egypt which will include a selection of Egyptian factories and companies specialized in the manufacture of home furnishings\, furnishings and decoration\, with the aim of revitalizing Markets and provide an opportunity for those interested in the furniture industry and those who are about to get married to get acquainted with all that is new and the latest models in the furniture\, furnishings and decoration industry. \n\nHighlights\n\nPopular among visitors for\n\nTop 100 in Home & Office in Egypt\n\n\n\nRecommended for\n\nArchitects & Interior Designers\n\n\n\n\n\n\nCairo International Convention Centre\, Cairo\, Egypt
URL:https://madeinegyptgate.com/ar/event/furniture-decoration-fair-2024/
ATTACH;FMTTYPE=image/png:https://madeinegyptgate.com/wp-content/uploads/2024/05/download.png
END:VEVENT
END:VCALENDAR